BEGIN:VCALENDAR
PRODID:-//HKUST Drupal Platform//EN
VERSION:2.0
BEGIN:VTIMEZONE
TZID:Asia/Hong_Kong
BEGIN:STANDARD
DTSTART:20071104T020000
TZOFFSETFROM:+0700
TZOFFSETTO:+0800
TZNAME:HKT
END:STANDARD
END:VTIMEZONE
BEGIN:VEVENT
DTSTAMP;TZID=Asia/Hong_Kong:20260421T023041
DTSTART;TZID=Asia/Hong_Kong:20250725T153000
DTEND;TZID=Asia/Hong_Kong:20250725T183000
LOCATION:E4-201, HKUST(GZ) / Zoom ID: 998 2450 5391, Passcode: dsa2025, HKUST
SUMMARY:PHD in Individual Interdisci Prog - Cohesive Subgraph Analysis in Complex Graphs: Efficient Algorithms for Dynamic, Temporal, and Distributed Scenarios
UID:44748
END:VEVENT
END:VCALENDAR