BEGIN:VCALENDAR
PRODID:-//HKUST Drupal Platform//EN
VERSION:2.0
BEGIN:VTIMEZONE
TZID:Asia/Hong_Kong
BEGIN:STANDARD
DTSTART:20071104T020000
TZOFFSETFROM:+0700
TZOFFSETTO:+0800
TZNAME:HKT
END:STANDARD
END:VTIMEZONE
BEGIN:VEVENT
DTSTAMP;TZID=Asia/Hong_Kong:20260420T235205
DTSTART;TZID=Asia/Hong_Kong:20250806T150000
DTEND;TZID=Asia/Hong_Kong:20250806T180000
LOCATION:Room 4472 (Lifts 25-26), HKUST
SUMMARY:PHD in Chem & Biomolecular Engg - Durable Antimicrobial Textile Treatment
UID:44747
END:VEVENT
END:VCALENDAR