BEGIN:VCALENDAR
PRODID:-//HKUST Drupal Platform//EN
VERSION:2.0
BEGIN:VTIMEZONE
TZID:Asia/Hong_Kong
BEGIN:STANDARD
DTSTART:20071104T020000
TZOFFSETFROM:+0700
TZOFFSETTO:+0800
TZNAME:HKT
END:STANDARD
END:VTIMEZONE
BEGIN:VEVENT
DTSTAMP;TZID=Asia/Hong_Kong:20260421T010508
DTSTART;TZID=Asia/Hong_Kong:20250813T130000
DTEND;TZID=Asia/Hong_Kong:20250813T160000
LOCATION: , HKUST
SUMMARY:PHD in Life Science - The Ontogeny and Migratory Pathway of Hematopoietic Stem Cells in Zebrafish
UID:44709
END:VEVENT
END:VCALENDAR