BEGIN:VCALENDAR
PRODID:-//HKUST Drupal Platform//EN
VERSION:2.0
BEGIN:VTIMEZONE
TZID:Asia/Hong_Kong
BEGIN:STANDARD
DTSTART:20071104T020000
TZOFFSETFROM:+0700
TZOFFSETTO:+0800
TZNAME:HKT
END:STANDARD
END:VTIMEZONE
BEGIN:VEVENT
DTSTAMP;TZID=Asia/Hong_Kong:20260420T221929
DTSTART;TZID=Asia/Hong_Kong:20250820T103000
DTEND;TZID=Asia/Hong_Kong:20250820T133000
LOCATION: , HKUST
SUMMARY:PHD in Industrial Engg & Deci Ana - Strategic Approaches in Service and Retailing Operations
UID:44689
END:VEVENT
END:VCALENDAR