BEGIN:VCALENDAR
PRODID:-//HKUST Drupal Platform//EN
VERSION:2.0
BEGIN:VTIMEZONE
TZID:Asia/Hong_Kong
BEGIN:STANDARD
DTSTART:20071104T020000
TZOFFSETFROM:+0700
TZOFFSETTO:+0800
TZNAME:HKT
END:STANDARD
END:VTIMEZONE
BEGIN:VEVENT
DTSTAMP;TZID=Asia/Hong_Kong:20260421T005042
DTSTART;TZID=Asia/Hong_Kong:20250815T100000
DTEND;TZID=Asia/Hong_Kong:20250815T130000
LOCATION: , HKUST
SUMMARY:PHD in Electronic & Comp Engg - Design and Analysis of Efficient Self-Calibrated High-resolution SAR ADC
UID:44666
END:VEVENT
END:VCALENDAR