BEGIN:VCALENDAR
PRODID:-//HKUST Drupal Platform//EN
VERSION:2.0
BEGIN:VTIMEZONE
TZID:Asia/Hong_Kong
BEGIN:STANDARD
DTSTART:20071104T020000
TZOFFSETFROM:+0700
TZOFFSETTO:+0800
TZNAME:HKT
END:STANDARD
END:VTIMEZONE
BEGIN:VEVENT
DTSTAMP;TZID=Asia/Hong_Kong:20260421T034637
DTSTART;TZID=Asia/Hong_Kong:20250718T100000
DTEND;TZID=Asia/Hong_Kong:20250718T130000
LOCATION:5501, HKUST
SUMMARY:PHD in Individual Interdisci Prog - Navigating Co-Evolution: A Multi-Level Analysis of Socio-Technical Transitions in NFT Ecosystems
UID:44621
END:VEVENT
END:VCALENDAR