BEGIN:VCALENDAR
PRODID:-//HKUST Drupal Platform//EN
VERSION:2.0
BEGIN:VTIMEZONE
TZID:Asia/Hong_Kong
BEGIN:STANDARD
DTSTART:20071104T020000
TZOFFSETFROM:+0700
TZOFFSETTO:+0800
TZNAME:HKT
END:STANDARD
END:VTIMEZONE
BEGIN:VEVENT
DTSTAMP;TZID=Asia/Hong_Kong:20260421T011722
DTSTART;TZID=Asia/Hong_Kong:20250814T133000
DTEND;TZID=Asia/Hong_Kong:20250814T163000
LOCATION: , HKUST
SUMMARY:MPhil in Envrl Sci, Policy & Mgmt - Towards Inter-City Collaboration on Adaptation Finance: Resilience against Extreme Heat in Urban Asia
UID:44549
END:VEVENT
END:VCALENDAR