BEGIN:VCALENDAR
PRODID:-//HKUST Drupal Platform//EN
VERSION:2.0
BEGIN:VTIMEZONE
TZID:Asia/Hong_Kong
BEGIN:STANDARD
DTSTART:20071104T020000
TZOFFSETFROM:+0700
TZOFFSETTO:+0800
TZNAME:HKT
END:STANDARD
END:VTIMEZONE
BEGIN:VEVENT
DTSTAMP;TZID=Asia/Hong_Kong:20260420T192940
DTSTART;TZID=Asia/Hong_Kong:20250819T103000
DTEND;TZID=Asia/Hong_Kong:20250819T133000
LOCATION: , HKUST
SUMMARY:PHD in Individual Interdisci Prog - Functionalized Hydrogels for Diabetic Wound Healing: Controlled Drug Delivery and Photocatalytic Hydrogen Therapy.
UID:44545
END:VEVENT
END:VCALENDAR