BEGIN:VCALENDAR
PRODID:-//HKUST Drupal Platform//EN
VERSION:2.0
BEGIN:VTIMEZONE
TZID:Asia/Hong_Kong
BEGIN:STANDARD
DTSTART:20071104T020000
TZOFFSETFROM:+0700
TZOFFSETTO:+0800
TZNAME:HKT
END:STANDARD
END:VTIMEZONE
BEGIN:VEVENT
DTSTAMP;TZID=Asia/Hong_Kong:20260421T005042
DTSTART;TZID=Asia/Hong_Kong:20250813T143000
DTEND;TZID=Asia/Hong_Kong:20250813T173000
LOCATION: , HKUST
SUMMARY:MPhil in Chem & Biomolecular Engg - A Precipitation-Based Process Principle for Purification of an Industrially Relevant Therapeutic Monoclonal Antibody and Fc-Fusion Protein
UID:44543
END:VEVENT
END:VCALENDAR