BEGIN:VCALENDAR
PRODID:-//HKUST Drupal Platform//EN
VERSION:2.0
BEGIN:VTIMEZONE
TZID:Asia/Hong_Kong
BEGIN:STANDARD
DTSTART:20071104T020000
TZOFFSETFROM:+0700
TZOFFSETTO:+0800
TZNAME:HKT
END:STANDARD
END:VTIMEZONE
BEGIN:VEVENT
DTSTAMP;TZID=Asia/Hong_Kong:20260420T235208
DTSTART;TZID=Asia/Hong_Kong:20250815T150000
DTEND;TZID=Asia/Hong_Kong:20250815T180000
LOCATION:Room 4504 (Lifts 25-26), 4/F Academic Building, HKUST
SUMMARY:PHD in Life Science - G-Quadruplexes in Biological Processes: Structural Insights and Drug Discovery
UID:44541
END:VEVENT
END:VCALENDAR