BEGIN:VCALENDAR
PRODID:-//HKUST Drupal Platform//EN
VERSION:2.0
BEGIN:VTIMEZONE
TZID:Asia/Hong_Kong
BEGIN:STANDARD
DTSTART:20071104T020000
TZOFFSETFROM:+0700
TZOFFSETTO:+0800
TZNAME:HKT
END:STANDARD
END:VTIMEZONE
BEGIN:VEVENT
DTSTAMP;TZID=Asia/Hong_Kong:20260421T045613
DTSTART;TZID=Asia/Hong_Kong:20250807T093000
DTEND;TZID=Asia/Hong_Kong:20250807T123000
LOCATION:Room 5554 (Lifts 27-28), 5/F Academic Building, HKUST
SUMMARY:MPhil in Industrial Engg&Deci Ana - Heart Rate Estimations from Underwater Facial Videos: Towards Applications for Swimmers
UID:44529
END:VEVENT
END:VCALENDAR