BEGIN:VCALENDAR
PRODID:-//HKUST Drupal Platform//EN
VERSION:2.0
BEGIN:VTIMEZONE
TZID:Asia/Hong_Kong
BEGIN:STANDARD
DTSTART:20071104T020000
TZOFFSETFROM:+0700
TZOFFSETTO:+0800
TZNAME:HKT
END:STANDARD
END:VTIMEZONE
BEGIN:VEVENT
DTSTAMP;TZID=Asia/Hong_Kong:20260423T103736
DTSTART;TZID=Asia/Hong_Kong:20250709T140000
DTEND;TZID=Asia/Hong_Kong:20250709T150000
LOCATION:W2-201 ( ZOOM ID:972 1467 9269 Passcode:amat123)
SUMMARY:Public Research Seminar by Advanced Materials (AMAT) Thrust, HKUST(GZ)  - Investigate Two-Dimensional Magnetism via Lattice Engineering
UID:44524
END:VEVENT
END:VCALENDAR