BEGIN:VCALENDAR
PRODID:-//HKUST Drupal Platform//EN
VERSION:2.0
BEGIN:VTIMEZONE
TZID:Asia/Hong_Kong
BEGIN:STANDARD
DTSTART:20071104T020000
TZOFFSETFROM:+0700
TZOFFSETTO:+0800
TZNAME:HKT
END:STANDARD
END:VTIMEZONE
BEGIN:VEVENT
DTSTAMP;TZID=Asia/Hong_Kong:20260420T084759
DTSTART;TZID=Asia/Hong_Kong:20250707T103000
DTEND;TZID=Asia/Hong_Kong:20250707T133000
LOCATION:Room 3574 (Lifts 27-28), 3/F Academic Building, HKUST
SUMMARY:PHD in Civil Engineering - Low-Carbon Cementitious Strategies for Hazardous Waste Immobilization: From Material Innovation to Mechanistic Understanding
UID:44520
END:VEVENT
END:VCALENDAR