BEGIN:VCALENDAR
PRODID:-//HKUST Drupal Platform//EN
VERSION:2.0
BEGIN:VTIMEZONE
TZID:Asia/Hong_Kong
BEGIN:STANDARD
DTSTART:20071104T020000
TZOFFSETFROM:+0700
TZOFFSETTO:+0800
TZNAME:HKT
END:STANDARD
END:VTIMEZONE
BEGIN:VEVENT
DTSTAMP;TZID=Asia/Hong_Kong:20260422T022630
DTSTART;TZID=Asia/Hong_Kong:20250711T100000
DTEND;TZID=Asia/Hong_Kong:20250711T110000
LOCATION:ECE meeting room 2515-2516 (2/F via Lifts 25/26), HKUST
SUMMARY:Longitude
UID:44508
END:VEVENT
END:VCALENDAR