BEGIN:VCALENDAR
PRODID:-//HKUST Drupal Platform//EN
VERSION:2.0
BEGIN:VTIMEZONE
TZID:Asia/Hong_Kong
BEGIN:STANDARD
DTSTART:20071104T020000
TZOFFSETFROM:+0700
TZOFFSETTO:+0800
TZNAME:HKT
END:STANDARD
END:VTIMEZONE
BEGIN:VEVENT
DTSTAMP;TZID=Asia/Hong_Kong:20260421T011724
DTSTART;TZID=Asia/Hong_Kong:20250716T170000
DTEND;TZID=Asia/Hong_Kong:20250716T200000
LOCATION:Room 5501 (Lifts 25-26), 5/F Academic Building, HKUST
SUMMARY:PHD in Computer Science & Engg - Parameterized Graph Algorithms and Their Role in Static Program Analysis
UID:44488
END:VEVENT
END:VCALENDAR