BEGIN:VCALENDAR
PRODID:-//HKUST Drupal Platform//EN
VERSION:2.0
BEGIN:VTIMEZONE
TZID:Asia/Hong_Kong
BEGIN:STANDARD
DTSTART:20071104T020000
TZOFFSETFROM:+0700
TZOFFSETTO:+0800
TZNAME:HKT
END:STANDARD
END:VTIMEZONE
BEGIN:VEVENT
DTSTAMP;TZID=Asia/Hong_Kong:20260421T023025
DTSTART;TZID=Asia/Hong_Kong:20250801T100000
DTEND;TZID=Asia/Hong_Kong:20250801T130000
LOCATION: , HKUST
SUMMARY:MPhil in Marine Environmental Sci - Forecasting Chlorophyll Dynamics in Hong Kong Waters Using Nonlinear Time Series Analysis
UID:44435
END:VEVENT
END:VCALENDAR