BEGIN:VCALENDAR
PRODID:-//HKUST Drupal Platform//EN
VERSION:2.0
BEGIN:VTIMEZONE
TZID:Asia/Hong_Kong
BEGIN:STANDARD
DTSTART:20071104T020000
TZOFFSETFROM:+0700
TZOFFSETTO:+0800
TZNAME:HKT
END:STANDARD
END:VTIMEZONE
BEGIN:VEVENT
DTSTAMP;TZID=Asia/Hong_Kong:20260421T011725
DTSTART;TZID=Asia/Hong_Kong:20250723T100000
DTEND;TZID=Asia/Hong_Kong:20250723T130000
LOCATION: , HKUST
SUMMARY:MPhil in Life Science - Elucidating the Regulatory Role of SETDB1 in Epigenome and 3D Chromatin Structures in Melanoma
UID:44425
END:VEVENT
END:VCALENDAR