BEGIN:VCALENDAR
PRODID:-//HKUST Drupal Platform//EN
VERSION:2.0
BEGIN:VTIMEZONE
TZID:Asia/Hong_Kong
BEGIN:STANDARD
DTSTART:20071104T020000
TZOFFSETFROM:+0700
TZOFFSETTO:+0800
TZNAME:HKT
END:STANDARD
END:VTIMEZONE
BEGIN:VEVENT
DTSTAMP;TZID=Asia/Hong_Kong:20260423T061947
DTSTART;TZID=Asia/Hong_Kong:20250707T100000
DTEND;TZID=Asia/Hong_Kong:20250707T130000
LOCATION:Room 5506 (Lifts 25-26), 5/F Academic Building, HKUST
SUMMARY:MPhil in Life Science - Epigenetic reprogramming induced by Acetyl-CoA and SAM depletion is an evolutionarily-ancient path to malignant growth
UID:44385
END:VEVENT
END:VCALENDAR