BEGIN:VCALENDAR
PRODID:-//HKUST Drupal Platform//EN
VERSION:2.0
BEGIN:VTIMEZONE
TZID:Asia/Hong_Kong
BEGIN:STANDARD
DTSTART:20071104T020000
TZOFFSETFROM:+0700
TZOFFSETTO:+0800
TZNAME:HKT
END:STANDARD
END:VTIMEZONE
BEGIN:VEVENT
DTSTAMP;TZID=Asia/Hong_Kong:20260420T221230
DTSTART;TZID=Asia/Hong_Kong:20250820T150000
DTEND;TZID=Asia/Hong_Kong:20250820T180000
LOCATION:Room 4047, Lee Shau Kee Business Building, HKUST
SUMMARY:MPhil in Operations Management - Control versus Delegation in Responsible Sourcing
UID:44365
END:VEVENT
END:VCALENDAR