BEGIN:VCALENDAR
PRODID:-//HKUST Drupal Platform//EN
VERSION:2.0
BEGIN:VTIMEZONE
TZID:Asia/Hong_Kong
BEGIN:STANDARD
DTSTART:20071104T020000
TZOFFSETFROM:+0700
TZOFFSETTO:+0800
TZNAME:HKT
END:STANDARD
END:VTIMEZONE
BEGIN:VEVENT
DTSTAMP;TZID=Asia/Hong_Kong:20260420T194049
DTSTART;TZID=Asia/Hong_Kong:20250609T164500
DTEND;TZID=Asia/Hong_Kong:20250609T174500
LOCATION:Room 4502, 4/F (Lifts 25-26), Academic Building
SUMMARY:Department of Chemistry Seminar - General synthesis and functionalization studies of monolayered metal-organic frameworks
UID:44346
END:VEVENT
END:VCALENDAR