BEGIN:VCALENDAR
PRODID:-//HKUST Drupal Platform//EN
VERSION:2.0
BEGIN:VTIMEZONE
TZID:Asia/Hong_Kong
BEGIN:STANDARD
DTSTART:20071104T020000
TZOFFSETFROM:+0700
TZOFFSETTO:+0800
TZNAME:HKT
END:STANDARD
END:VTIMEZONE
BEGIN:VEVENT
DTSTAMP;TZID=Asia/Hong_Kong:20260421T011727
DTSTART;TZID=Asia/Hong_Kong:20250722T143000
DTEND;TZID=Asia/Hong_Kong:20250722T173000
LOCATION: , HKUST
SUMMARY:MPhil in Social Science - *Fragmentation and Divergence: Career Paths of Local Civil Officials in Late Qing China (1830–1905)*
UID:44331
END:VEVENT
END:VCALENDAR