BEGIN:VCALENDAR
PRODID:-//HKUST Drupal Platform//EN
VERSION:2.0
BEGIN:VTIMEZONE
TZID:Asia/Hong_Kong
BEGIN:STANDARD
DTSTART:20071104T020000
TZOFFSETFROM:+0700
TZOFFSETTO:+0800
TZNAME:HKT
END:STANDARD
END:VTIMEZONE
BEGIN:VEVENT
DTSTAMP;TZID=Asia/Hong_Kong:20260420T192937
DTSTART;TZID=Asia/Hong_Kong:20251008T093000
DTEND;TZID=Asia/Hong_Kong:20251008T123000
LOCATION: , HKUST
SUMMARY:MPhil in Computer Science & Engg - Evaluation-Driven Intelligence: From Visual Captioning Metrics to Agentic Workflow Optimization
UID:44315
END:VEVENT
END:VCALENDAR