BEGIN:VCALENDAR
PRODID:-//HKUST Drupal Platform//EN
VERSION:2.0
BEGIN:VTIMEZONE
TZID:Asia/Hong_Kong
BEGIN:STANDARD
DTSTART:20071104T020000
TZOFFSETFROM:+0700
TZOFFSETTO:+0800
TZNAME:HKT
END:STANDARD
END:VTIMEZONE
BEGIN:VEVENT
DTSTAMP;TZID=Asia/Hong_Kong:20260423T072722
DTSTART;TZID=Asia/Hong_Kong:20250702T160000
DTEND;TZID=Asia/Hong_Kong:20250702T190000
LOCATION: , HKUST
SUMMARY:PHD in Electronic & Comp Engg - Can I trust AI? Benchmarking Large Language Models
UID:44301
END:VEVENT
END:VCALENDAR