BEGIN:VCALENDAR
PRODID:-//HKUST Drupal Platform//EN
VERSION:2.0
BEGIN:VTIMEZONE
TZID:Asia/Hong_Kong
BEGIN:STANDARD
DTSTART:20071104T020000
TZOFFSETFROM:+0700
TZOFFSETTO:+0800
TZNAME:HKT
END:STANDARD
END:VTIMEZONE
BEGIN:VEVENT
DTSTAMP;TZID=Asia/Hong_Kong:20260421T054025
DTSTART;TZID=Asia/Hong_Kong:20250710T150000
DTEND;TZID=Asia/Hong_Kong:20250710T180000
LOCATION: , HKUST
SUMMARY:MPhil in Physics - Using Bell Experiments to Test the Quantumness of Primordial Fluctuations
UID:44299
END:VEVENT
END:VCALENDAR