BEGIN:VCALENDAR
PRODID:-//HKUST Drupal Platform//EN
VERSION:2.0
BEGIN:VTIMEZONE
TZID:Asia/Hong_Kong
BEGIN:STANDARD
DTSTART:20071104T020000
TZOFFSETFROM:+0700
TZOFFSETTO:+0800
TZNAME:HKT
END:STANDARD
END:VTIMEZONE
BEGIN:VEVENT
DTSTAMP;TZID=Asia/Hong_Kong:20260421T011725
DTSTART;TZID=Asia/Hong_Kong:20250723T160000
DTEND;TZID=Asia/Hong_Kong:20250723T190000
LOCATION: , HKUST
SUMMARY:PHD in Envrl Sci, Policy & Mgmt - Fabrication of 3D-Printed Cell Scaffold using Silica Bioink for Proteomic Environmental Toxicology
UID:44264
END:VEVENT
END:VCALENDAR