BEGIN:VCALENDAR
PRODID:-//HKUST Drupal Platform//EN
VERSION:2.0
BEGIN:VTIMEZONE
TZID:Asia/Hong_Kong
BEGIN:STANDARD
DTSTART:20071104T020000
TZOFFSETFROM:+0700
TZOFFSETTO:+0800
TZNAME:HKT
END:STANDARD
END:VTIMEZONE
BEGIN:VEVENT
DTSTAMP;TZID=Asia/Hong_Kong:20260423T072717
DTSTART;TZID=Asia/Hong_Kong:20250630T100000
DTEND;TZID=Asia/Hong_Kong:20250630T130000
LOCATION:Room 4047, Lee Shau Kee Business Building, HKUST
SUMMARY:MPhil in Marketing - Bonding with AI: Investigating the Love Relationships between Human and AI Companions
UID:44259
END:VEVENT
END:VCALENDAR