BEGIN:VCALENDAR
PRODID:-//HKUST Drupal Platform//EN
VERSION:2.0
BEGIN:VTIMEZONE
TZID:Asia/Hong_Kong
BEGIN:STANDARD
DTSTART:20071104T020000
TZOFFSETFROM:+0700
TZOFFSETTO:+0800
TZNAME:HKT
END:STANDARD
END:VTIMEZONE
BEGIN:VEVENT
DTSTAMP;TZID=Asia/Hong_Kong:20260421T011725
DTSTART;TZID=Asia/Hong_Kong:20250716T143000
DTEND;TZID=Asia/Hong_Kong:20250716T173000
LOCATION: , HKUST
SUMMARY:PHD in Industrial Engg & Deci Ana - Transparency in Operations Management: Essays on Information Disclosure, Pricing, and Consumer Behavior
UID:44258
END:VEVENT
END:VCALENDAR