BEGIN:VCALENDAR
PRODID:-//HKUST Drupal Platform//EN
VERSION:2.0
BEGIN:VTIMEZONE
TZID:Asia/Hong_Kong
BEGIN:STANDARD
DTSTART:20071104T020000
TZOFFSETFROM:+0700
TZOFFSETTO:+0800
TZNAME:HKT
END:STANDARD
END:VTIMEZONE
BEGIN:VEVENT
DTSTAMP;TZID=Asia/Hong_Kong:20260423T072728
DTSTART;TZID=Asia/Hong_Kong:20250627T150000
DTEND;TZID=Asia/Hong_Kong:20250627T180000
LOCATION:Room 5554 (Lifts 27-28), 5/F Academic Building, HKUST
SUMMARY:PHD in Industrial Engg & Deci Ana - Strategic Decision Making in Supply Chain Management and Bitcoin Mining
UID:44257
END:VEVENT
END:VCALENDAR