BEGIN:VCALENDAR
PRODID:-//HKUST Drupal Platform//EN
VERSION:2.0
BEGIN:VTIMEZONE
TZID:Asia/Hong_Kong
BEGIN:STANDARD
DTSTART:20071104T020000
TZOFFSETFROM:+0700
TZOFFSETTO:+0800
TZNAME:HKT
END:STANDARD
END:VTIMEZONE
BEGIN:VEVENT
DTSTAMP;TZID=Asia/Hong_Kong:20260421T023025
DTSTART;TZID=Asia/Hong_Kong:20250711T090000
DTEND;TZID=Asia/Hong_Kong:20250711T120000
LOCATION: , HKUST
SUMMARY:MPhil in Envrl Sci, Policy & Mgmt - Unlocking Household Water Use Patterns From Low-Resolution Smart Meter Data via Agent-based Modeling and Bayesian Inference
UID:44228
END:VEVENT
END:VCALENDAR