BEGIN:VCALENDAR
PRODID:-//HKUST Drupal Platform//EN
VERSION:2.0
BEGIN:VTIMEZONE
TZID:Asia/Hong_Kong
BEGIN:STANDARD
DTSTART:20071104T020000
TZOFFSETFROM:+0700
TZOFFSETTO:+0800
TZNAME:HKT
END:STANDARD
END:VTIMEZONE
BEGIN:VEVENT
DTSTAMP;TZID=Asia/Hong_Kong:20260425T220745
DTSTART;TZID=Asia/Hong_Kong:20250529T133000
DTEND;TZID=Asia/Hong_Kong:20250529T163000
LOCATION:Room 2548 + Room 2549 (Lifts 27-28), 2/F Academic Building; Zoom Meeting ID: 992 2265 4118 Passcode: 779167, HKUST
SUMMARY:PHD in Mechanical Engineering - Aerodynamic Analysis and Performance Optimization in Olympic Windsurfing: From Mechanical Modeling to Real-time Decision-making
UID:44220
END:VEVENT
END:VCALENDAR