BEGIN:VCALENDAR
PRODID:-//HKUST Drupal Platform//EN
VERSION:2.0
BEGIN:VTIMEZONE
TZID:Asia/Hong_Kong
BEGIN:STANDARD
DTSTART:20071104T020000
TZOFFSETFROM:+0700
TZOFFSETTO:+0800
TZNAME:HKT
END:STANDARD
END:VTIMEZONE
BEGIN:VEVENT
DTSTAMP;TZID=Asia/Hong_Kong:20260421T023027
DTSTART;TZID=Asia/Hong_Kong:20250723T140000
DTEND;TZID=Asia/Hong_Kong:20250723T170000
LOCATION: , HKUST
SUMMARY:MPhil in Mathematics - A Fast Level Set Optimization Framework with Application to Inverse Gravimetry
UID:44193
END:VEVENT
END:VCALENDAR