BEGIN:VCALENDAR
PRODID:-//HKUST Drupal Platform//EN
VERSION:2.0
BEGIN:VTIMEZONE
TZID:Asia/Hong_Kong
BEGIN:STANDARD
DTSTART:20071104T020000
TZOFFSETFROM:+0700
TZOFFSETTO:+0800
TZNAME:HKT
END:STANDARD
END:VTIMEZONE
BEGIN:VEVENT
DTSTAMP;TZID=Asia/Hong_Kong:20260425T111629
DTSTART;TZID=Asia/Hong_Kong:20250527T150000
DTEND;TZID=Asia/Hong_Kong:20250527T180000
LOCATION:Zoom:  991 8322 5626, Password: 582310; W1-222, Guangzhou Campus, HKUST
SUMMARY:PHD in Individual Interdisci Prog - Confined Quasi-2D Coulomb Systems: Theory, Algorithms, and Applications
UID:44178
END:VEVENT
END:VCALENDAR