BEGIN:VCALENDAR
PRODID:-//HKUST Drupal Platform//EN
VERSION:2.0
BEGIN:VTIMEZONE
TZID:Asia/Hong_Kong
BEGIN:STANDARD
DTSTART:20071104T020000
TZOFFSETFROM:+0700
TZOFFSETTO:+0800
TZNAME:HKT
END:STANDARD
END:VTIMEZONE
BEGIN:VEVENT
DTSTAMP;TZID=Asia/Hong_Kong:20260425T220734
DTSTART;TZID=Asia/Hong_Kong:20250526T093000
DTEND;TZID=Asia/Hong_Kong:20250526T123000
LOCATION:Room 5583 (Lifts 29-30), 5/F Academic Building, HKUST
SUMMARY:PHD in Public Policy - Mitigating Cloud Computing Emissions at the National Level: Policy Responses and Carbon Accounting Methods for Carbon-Efficient Cloud Infrastructure Governance
UID:44127
END:VEVENT
END:VCALENDAR