BEGIN:VCALENDAR
PRODID:-//HKUST Drupal Platform//EN
VERSION:2.0
BEGIN:VTIMEZONE
TZID:Asia/Hong_Kong
BEGIN:STANDARD
DTSTART:20071104T020000
TZOFFSETFROM:+0700
TZOFFSETTO:+0800
TZNAME:HKT
END:STANDARD
END:VTIMEZONE
BEGIN:VEVENT
DTSTAMP;TZID=Asia/Hong_Kong:20260420T222019
DTSTART;TZID=Asia/Hong_Kong:20250519T000000
DTEND;TZID=Asia/Hong_Kong:20250530T235900
LOCATION:Lobbies of UG Hall 1-9, Jockey Club Hall
SUMMARY:Drop and Adopt: Student Hall Donation Collection 
UID:44094
END:VEVENT
END:VCALENDAR