BEGIN:VCALENDAR
PRODID:-//HKUST Drupal Platform//EN
VERSION:2.0
BEGIN:VTIMEZONE
TZID:Asia/Hong_Kong
BEGIN:STANDARD
DTSTART:20071104T020000
TZOFFSETFROM:+0700
TZOFFSETTO:+0800
TZNAME:HKT
END:STANDARD
END:VTIMEZONE
BEGIN:VEVENT
DTSTAMP;TZID=Asia/Hong_Kong:20260425T220733
DTSTART;TZID=Asia/Hong_Kong:20250530T100000
DTEND;TZID=Asia/Hong_Kong:20250530T130000
LOCATION:Meeting Room G01A, CKSRI, Tower C, HKUST
SUMMARY:PHD in Individual Interdisci Prog - Towards Intelligent Object Manipulation: Vision-Based Grasping, Pose Estimation, and Physical Property Identification
UID:44092
END:VEVENT
END:VCALENDAR