BEGIN:VCALENDAR
PRODID:-//HKUST Drupal Platform//EN
VERSION:2.0
BEGIN:VTIMEZONE
TZID:Asia/Hong_Kong
BEGIN:STANDARD
DTSTART:20071104T020000
TZOFFSETFROM:+0700
TZOFFSETTO:+0800
TZNAME:HKT
END:STANDARD
END:VTIMEZONE
BEGIN:VEVENT
DTSTAMP;TZID=Asia/Hong_Kong:20260420T180908
DTSTART;TZID=Asia/Hong_Kong:20250515T190000
DTEND;TZID=Asia/Hong_Kong:20250515T200000
LOCATION:zoom
SUMMARY:Webinar by Frank Holleman, Fork Ranger: Sustainable Food Choices Like a Video Game: What are the first levels?- JCSCCP
UID:44036
END:VEVENT
END:VCALENDAR