BEGIN:VCALENDAR
PRODID:-//HKUST Drupal Platform//EN
VERSION:2.0
BEGIN:VTIMEZONE
TZID:Asia/Hong_Kong
BEGIN:STANDARD
DTSTART:20071104T020000
TZOFFSETFROM:+0700
TZOFFSETTO:+0800
TZNAME:HKT
END:STANDARD
END:VTIMEZONE
BEGIN:VEVENT
DTSTAMP;TZID=Asia/Hong_Kong:20260425T224556
DTSTART;TZID=Asia/Hong_Kong:20250605T100000
DTEND;TZID=Asia/Hong_Kong:20250605T130000
LOCATION: , HKUST
SUMMARY:MPhil in Mechanical Engineering - Ultrasonic-Initiated Frontal Polymerization for Efficient Green Synthesis of Polydicyclopentadiene and Its Copolymers with Tunable Properties
UID:43982
END:VEVENT
END:VCALENDAR