BEGIN:VCALENDAR
PRODID:-//HKUST Drupal Platform//EN
VERSION:2.0
BEGIN:VTIMEZONE
TZID:Asia/Hong_Kong
BEGIN:STANDARD
DTSTART:20071104T020000
TZOFFSETFROM:+0700
TZOFFSETTO:+0800
TZNAME:HKT
END:STANDARD
END:VTIMEZONE
BEGIN:VEVENT
DTSTAMP;TZID=Asia/Hong_Kong:20260425T220746
DTSTART;TZID=Asia/Hong_Kong:20250603T140000
DTEND;TZID=Asia/Hong_Kong:20250603T170000
LOCATION:E3-201, HKUST(GZ) / Zoom ID: 968 7439 2918, Passcode: dsa2025, HKUST
SUMMARY:PHD in Individual Interdisci Prog - Graph-based Anomaly Detection, Similarity Computation, and Reasoning Exploration
UID:43966
END:VEVENT
END:VCALENDAR