BEGIN:VCALENDAR
PRODID:-//HKUST Drupal Platform//EN
VERSION:2.0
BEGIN:VTIMEZONE
TZID:Asia/Hong_Kong
BEGIN:STANDARD
DTSTART:20071104T020000
TZOFFSETFROM:+0700
TZOFFSETTO:+0800
TZNAME:HKT
END:STANDARD
END:VTIMEZONE
BEGIN:VEVENT
DTSTAMP;TZID=Asia/Hong_Kong:20260420T180827
DTSTART;TZID=Asia/Hong_Kong:20250514T140000
DTEND;TZID=Asia/Hong_Kong:20250514T173000
LOCATION:Shuttle bus pick-up from HKUST at 1:00 pm
SUMMARY:Join Us to Sort Clothes for Good with Redress - HKUST Impact Makers
UID:43939
END:VEVENT
END:VCALENDAR