BEGIN:VCALENDAR
PRODID:-//HKUST Drupal Platform//EN
VERSION:2.0
BEGIN:VTIMEZONE
TZID:Asia/Hong_Kong
BEGIN:STANDARD
DTSTART:20071104T020000
TZOFFSETFROM:+0700
TZOFFSETTO:+0800
TZNAME:HKT
END:STANDARD
END:VTIMEZONE
BEGIN:VEVENT
DTSTAMP;TZID=Asia/Hong_Kong:20260425T224553
DTSTART;TZID=Asia/Hong_Kong:20250515T150000
DTEND;TZID=Asia/Hong_Kong:20250515T180000
LOCATION:Room 5566 (Lift 27-28), 5/F Acadenuc Building, HKUST
SUMMARY:PHD in Individual Interdisci Prog - System identification and control of the low-frequency flow oscillations over an airfoil near stall
UID:43931
END:VEVENT
END:VCALENDAR