BEGIN:VCALENDAR
PRODID:-//HKUST Drupal Platform//EN
VERSION:2.0
BEGIN:VTIMEZONE
TZID:Asia/Hong_Kong
BEGIN:STANDARD
DTSTART:20071104T020000
TZOFFSETFROM:+0700
TZOFFSETTO:+0800
TZNAME:HKT
END:STANDARD
END:VTIMEZONE
BEGIN:VEVENT
DTSTAMP;TZID=Asia/Hong_Kong:20260425T100555
DTSTART;TZID=Asia/Hong_Kong:20250523T160000
DTEND;TZID=Asia/Hong_Kong:20250523T190000
LOCATION:Room 2128B(Lifts 19), 2/F Academic Building, HKUST
SUMMARY:MPhil in Computer Science & Engg - Learning-Based Index Optimization for Diverse and Evolving Workloads
UID:43850
END:VEVENT
END:VCALENDAR