BEGIN:VCALENDAR
PRODID:-//HKUST Drupal Platform//EN
VERSION:2.0
BEGIN:VTIMEZONE
TZID:Asia/Hong_Kong
BEGIN:STANDARD
DTSTART:20071104T020000
TZOFFSETFROM:+0700
TZOFFSETTO:+0800
TZNAME:HKT
END:STANDARD
END:VTIMEZONE
BEGIN:VEVENT
DTSTAMP;TZID=Asia/Hong_Kong:20260425T224553
DTSTART;TZID=Asia/Hong_Kong:20250514T150000
DTEND;TZID=Asia/Hong_Kong:20250514T180000
LOCATION: , HKUST
SUMMARY:PHD in Physics - APPLICATION OF MACHINE LEARNING TO METAMATERIALS FOR INVERSE DESIGN AND TOPOLOGICAL CLASSIFICATION
UID:43768
END:VEVENT
END:VCALENDAR