BEGIN:VCALENDAR
PRODID:-//HKUST Drupal Platform//EN
VERSION:2.0
BEGIN:VTIMEZONE
TZID:Asia/Hong_Kong
BEGIN:STANDARD
DTSTART:20071104T020000
TZOFFSETFROM:+0700
TZOFFSETTO:+0800
TZNAME:HKT
END:STANDARD
END:VTIMEZONE
BEGIN:VEVENT
DTSTAMP;TZID=Asia/Hong_Kong:20260425T212609
DTSTART;TZID=Asia/Hong_Kong:20250425T144500
DTEND;TZID=Asia/Hong_Kong:20250425T174500
LOCATION:Room 5562 (Lifts 27/28), 5/F Academic Building, HKUST
SUMMARY:PHD in Computer Science & Engg - Mitigating Urban Crises via the Lens of Human Mobility Data: Measurement and Intervention
UID:43704
END:VEVENT
END:VCALENDAR