BEGIN:VCALENDAR
PRODID:-//HKUST Drupal Platform//EN
VERSION:2.0
BEGIN:VTIMEZONE
TZID:Asia/Hong_Kong
BEGIN:STANDARD
DTSTART:20071104T020000
TZOFFSETFROM:+0700
TZOFFSETTO:+0800
TZNAME:HKT
END:STANDARD
END:VTIMEZONE
BEGIN:VEVENT
DTSTAMP;TZID=Asia/Hong_Kong:20260425T224556
DTSTART;TZID=Asia/Hong_Kong:20250416T100000
DTEND;TZID=Asia/Hong_Kong:20250416T130000
LOCATION:Room 4475 (Lifts 25-26), 4/F Academic Building, HKUST
SUMMARY:PHD in Computer Science & Engg - Selective Multi-Source, Non-IID Transfer Learning for Urban Spatio-Temporal Forecasting
UID:43597
END:VEVENT
END:VCALENDAR