BEGIN:VCALENDAR
PRODID:-//HKUST Drupal Platform//EN
VERSION:2.0
BEGIN:VTIMEZONE
TZID:Asia/Hong_Kong
BEGIN:STANDARD
DTSTART:20071104T020000
TZOFFSETFROM:+0700
TZOFFSETTO:+0800
TZNAME:HKT
END:STANDARD
END:VTIMEZONE
BEGIN:VEVENT
DTSTAMP;TZID=Asia/Hong_Kong:20260426T010014
DTSTART;TZID=Asia/Hong_Kong:20250429T100000
DTEND;TZID=Asia/Hong_Kong:20250429T130000
LOCATION: , HKUST
SUMMARY:PHD in Electronic & Comp Engg - Quantum rod light-emitting diodes for future display and lighting applications
UID:43596
END:VEVENT
END:VCALENDAR