BEGIN:VCALENDAR
PRODID:-//HKUST Drupal Platform//EN
VERSION:2.0
BEGIN:VTIMEZONE
TZID:Asia/Hong_Kong
BEGIN:STANDARD
DTSTART:20071104T020000
TZOFFSETFROM:+0700
TZOFFSETTO:+0800
TZNAME:HKT
END:STANDARD
END:VTIMEZONE
BEGIN:VEVENT
DTSTAMP;TZID=Asia/Hong_Kong:20260425T224552
DTSTART;TZID=Asia/Hong_Kong:20250519T160000
DTEND;TZID=Asia/Hong_Kong:20250519T190000
LOCATION: , HKUST
SUMMARY:MPhil in Computer Science & Engg - Think First and Deeper: High-Quality Reasoning Segmentation with GPT Chain of Thoughts
UID:43595
END:VEVENT
END:VCALENDAR