BEGIN:VCALENDAR
PRODID:-//HKUST Drupal Platform//EN
VERSION:2.0
BEGIN:VTIMEZONE
TZID:Asia/Hong_Kong
BEGIN:STANDARD
DTSTART:20071104T020000
TZOFFSETFROM:+0700
TZOFFSETTO:+0800
TZNAME:HKT
END:STANDARD
END:VTIMEZONE
BEGIN:VEVENT
DTSTAMP;TZID=Asia/Hong_Kong:20260420T192630
DTSTART;TZID=Asia/Hong_Kong:20250317T103000
DTEND;TZID=Asia/Hong_Kong:20250317T120000
LOCATION:https://hkust.zoom.us/j/6024103984?omn=95407239478
SUMMARY:Department of Chemistry Seminar - Proton transport through interfaces for decoupled energy storage 
UID:43540
END:VEVENT
END:VCALENDAR