BEGIN:VCALENDAR
PRODID:-//HKUST Drupal Platform//EN
VERSION:2.0
BEGIN:VTIMEZONE
TZID:Asia/Hong_Kong
BEGIN:STANDARD
DTSTART:20071104T020000
TZOFFSETFROM:+0700
TZOFFSETTO:+0800
TZNAME:HKT
END:STANDARD
END:VTIMEZONE
BEGIN:VEVENT
DTSTAMP;TZID=Asia/Hong_Kong:20260425T224559
DTSTART;TZID=Asia/Hong_Kong:20250319T153000
DTEND;TZID=Asia/Hong_Kong:20250319T183000
LOCATION:Room 2548 + Room 2549 (Lifts 27-28), 2/F Academic Building, HKUST
SUMMARY:PHD in Mechanical Engineering - Advanced Characterization Methods for Experimental Mechanics by UV Prism-free Differential Interference Microscope and X-ray Laue Microdiffraction
UID:43403
END:VEVENT
END:VCALENDAR