BEGIN:VCALENDAR
PRODID:-//HKUST Drupal Platform//EN
VERSION:2.0
BEGIN:VTIMEZONE
TZID:Asia/Hong_Kong
BEGIN:STANDARD
DTSTART:20071104T020000
TZOFFSETFROM:+0700
TZOFFSETTO:+0800
TZNAME:HKT
END:STANDARD
END:VTIMEZONE
BEGIN:VEVENT
DTSTAMP;TZID=Asia/Hong_Kong:20260425T212610
DTSTART;TZID=Asia/Hong_Kong:20250307T100000
DTEND;TZID=Asia/Hong_Kong:20250307T130000
LOCATION:Room 4472 (Lifts 25-26), 4/F Academic Building, HKUST
SUMMARY:PHD in Computer Science & Engg - Advancements in Knowledge Graph Reasoning: Innovative Approaches to Complex Query Answering and Logical Hypothesis Generation
UID:43200
END:VEVENT
END:VCALENDAR