BEGIN:VCALENDAR
PRODID:-//HKUST Drupal Platform//EN
VERSION:2.0
BEGIN:VTIMEZONE
TZID:Asia/Hong_Kong
BEGIN:STANDARD
DTSTART:20071104T020000
TZOFFSETFROM:+0700
TZOFFSETTO:+0800
TZNAME:HKT
END:STANDARD
END:VTIMEZONE
BEGIN:VEVENT
DTSTAMP;TZID=Asia/Hong_Kong:20260425T212609
DTSTART;TZID=Asia/Hong_Kong:20250306T141500
DTEND;TZID=Asia/Hong_Kong:20250306T171500
LOCATION: , HKUST
SUMMARY:PHD in Electronic & Comp Engg - Compute-in-Memory Based Neural Network Accelerator: A Design Perspective
UID:43157
END:VEVENT
END:VCALENDAR